{"text_format":"1","workbook":"xlsx","n_sheets":2,"sheets":["MATRIZ ","MATRIZ DE VALORES"],"not_rendered":{"charts":0,"images":4,"macros":1,"external_links":0,"defined_names":1,"comments":1,"pivot_tables":0},"unopened":[],"bounds":{"document_bytes":16777216,"sheet_cells":100000,"rows_first":2000,"rows_last":500,"rows_between":2000,"halvings":0,"cell_chars":16384,"cell_head_chars":4096},"cells_cut":0,"cells_raw":0,"read":"whole","date_system":"1900"}

{"sheet":"MATRIZ ","index":0,"n_rows":40,"n_cols":18,"rows_kept":40,"cut":false,"hidden":false,"merged":[[7,10,7,11],[7,7,7,8],[8,7,8,8],[7,3,7,4],[8,3,8,4],[12,11,13,11],[30,1,30,3],[1,4,1,10],[1,11,4,11],[3,4,3,10],[2,4,2,10],[12,7,13,7],[12,8,12,10],[1,1,4,3],[12,1,13,1],[12,2,13,2],[12,3,13,3],[12,4,12,5],[12,6,13,6]]}
[]
[]
[null,null,null,null,"INSTITUTO TECNOLOGICO DE MORELIA"]
[null,null,null,null,"Matriz de evaluación y seguimiento de oportunidades"]
[]
[]
[]
[null,null,"FORMULÓ:",null,null,null,"FECHA DE ELABORACIÓN:",null,null,null,"SISTEMA DE GESTIÓN INTEGRADOR"]
[null,null,"SUPERVISÓ:",null,null,null,"AUTORIZÓ:"]
[]
[]
[]
[null,"No.","ORIGEN DE LAS OPORTUNIDADES","IDENTIFICACIÓN","OPORTUNIDADES",null,"VIABILIDAD","IMPACTO EN EL PROCESO ESTRATÉGICO","ESTRATÉGIA",null,null,{"$f":"UPPER(\"VALORACIÓN DEL supervisor\")","v":"VALORACIÓN DEL SUPERVISOR"},null,5,5,5,5,{"$f":"PRODUCT(N13:Q13)","v":625}]
[null,null,null,null,"DESCRIPCIÓN","EVALUACIÓN",null,null,"ACCION","RESPONSABLE","FECHA",null,null,5,5,5,3,375]
[null,1,null,null,null,{"$f":"'MATRIZ DE VALORES'!D16","v":""},null,null,null,null,null,null,null,5,5,3,3,225]
[null,2," "," ",null,{"$f":"'MATRIZ DE VALORES'!D29","v":""},null," ",null,null," ",null,null,5,3,3,3,135]
[null,3," "," ",null,{"$f":"'MATRIZ DE VALORES'!D42","v":""},{"$f":"IF(F17=\"\",\"\",IF(OR(F17=625,F17=375,F17=225,F17=135,F17=125),\"VIABLE\",IF(OR(F17=81,F17=75,F17=45,F17=27,F17=25),\"POSIBLEMENTE VIABLE\",\"POCO VIABLE\")))","v":""}," ",null,null," ",null,null,5,5,5,1,125]
[null,4," "," ",null,{"$f":"'MATRIZ DE VALORES'!D55","v":""},""," \n ",null,null," ",null,null,3,3,3,3,81]
[null,5," "," ",null,{"$f":"'MATRIZ DE VALORES'!D68","v":""},""," ",null,null," ",null,null,5,5,3,1,75]
[null,6," "," ",null,{"$f":"'MATRIZ DE VALORES'!D81","v":""},""," \n",null,null,"\n ",null,null,5,3,3,1,45]
[null,7," ",null,null,{"$f":"'MATRIZ DE VALORES'!D94","v":""},"",null,null,null,null,null,null,3,3,3,1,27]
[null,8,null,null,null,{"$f":"'MATRIZ DE VALORES'!D107","v":""},"",null,null,null,null,null,null,1,5,5,1,25]
[null,9,null,null,null,{"$f":"'MATRIZ DE VALORES'!D120","v":""},"",null,null,null,null,null,null,5,3,1,1,15]
[null,10,null,null,null,{"$f":"'MATRIZ DE VALORES'!D133","v":""},"",null,null,null,null,null,null,3,3,1,1,9]
[null,11,null,null,null,{"$f":"'MATRIZ DE VALORES'!D146","v":""},"",null,null,null,null,null,null,5,1,1,1,5]
[null,12,null,null,null,{"$f":"'MATRIZ DE VALORES'!D159","v":""},"",null,null,null,null,null,null,3,1,1,1,3]
[null,13,null,null,null,null,"",null,null,null,null,null,null,1,1,1,1,1]
[]
[]
[]
[null,"ITMORELIA-IT-CA-010-01",null,null,null,null,null,null,"Rev. O",null,null,"Página 1 de 1"]
[]
[]
[]
[]
[]
[]
[null,null,null,null,null,null,null,null,null,null,null,null,null,5,5,5,5]
[null,null,null,null,null,null,null,null,null,null,null,null,null,3,3,3,3]
[null,null,null,null,null,null,null,null,null,null,null,null,null,1,1,1,1]

{"sheet":"MATRIZ DE VALORES","index":1,"n_rows":174,"n_cols":8,"rows_kept":174,"cut":false,"hidden":false,"merged":[[2,2,2,5],[4,2,4,5],[171,3,173,8],[151,1,151,8],[145,3,147,8],[143,3,144,8],[86,1,86,8],[80,3,82,8],[78,3,79,8],[164,1,164,8],[142,5,142,6],[142,7,142,8],[129,7,129,8],[130,3,131,8],[132,3,134,8],[138,1,138,8],[117,3,118,8],[119,3,121,8],[125,1,125,8],[106,3,108,8],[112,1,112,8],[99,1,99,8],[77,5,77,6],[77,7,77,8],[165,0,166,0],[165,1,165,2],[165,3,165,4],[165,5,165,6],[165,7,165,8],[166,1,167,1],[166,2,167,2],[166,3,167,4],[166,5,167,6],[166,7,167,8],[167,0,173,0],[168,3,168,4],[168,5,168,6],[168,7,168,8],[169,3,170,8],[152,0,153,0],[152,1,152,2],[152,3,152,4],[152,5,152,6],[152,7,152,8],[153,1,154,1],[153,2,154,2],[153,3,154,4],[153,5,154,6],[153,7,154,8],[154,0,160,0],[155,3,155,4],[155,5,155,6],[155,7,155,8],[156,3,157,8],[158,3,160,8],[139,0,140,0],[139,1,139,2],[139,3,139,4],[139,5,139,6],[139,7,139,8],[140,1,141,1],[140,2,141,2],[140,3,141,4],[140,5,141,6],[140,7,141,8],[141,0,147,0],[142,3,142,4],[126,0,127,0],[126,1,126,2],[126,3,126,4],[126,5,126,6],[126,7,126,8],[127,1,128,1],[127,2,128,2],[127,3,128,4],[127,5,128,6],[127,7,128,8],[128,0,134,0],[129,3,129,4],[129,5,129,6],[113,0,114,0],[113,1,113,2],[113,3,113,4],[113,5,113,6],[113,7,113,8],[114,1,115,1],[114,2,115,2],[114,3,115,4],[114,5,115,6],[114,7,115,8],[115,0,121,0],[116,3,116,4],[116,5,116,6],[116,7,116,8],[100,0,101,0],[100,1,100,2],[100,3,100,4],[100,5,100,6],[100,7,100,8],[101,1,102,1],[101,2,102,2],[101,3,102,4],[101,5,102,6],[101,7,102,8],[102,0,108,0],[103,3,103,4],[103,5,103,6],[103,7,103,8],[104,3,105,8],[87,0,88,0],[87,1,87,2],[87,3,87,4],[87,5,87,6],[87,7,87,8],[88,1,89,1],[88,2,89,2],[88,3,89,4],[88,5,89,6],[88,7,89,8],[89,0,95,0],[90,3,90,4],[90,5,90,6],[90,7,90,8],[91,3,92,8],[93,3,95,8],[73,1,73,8],[74,0,75,0],[74,1,74,2],[74,3,74,4],[74,5,74,6],[74,7,74,8],[75,1,76,1],[75,2,76,2],[75,3,76,4],[75,5,76,6],[75,7,76,8],[76,0,82,0],[77,3,77,4],[60,1,60,8],[61,0,62,0],[61,1,61,2],[61,3,61,4],[61,5,61,6],[61,7,61,8],[62,1,63,1],[62,2,63,2],[62,3,63,4],[62,5,63,6],[62,7,63,8],[63,0,69,0],[64,3,64,4],[64,5,64,6],[64,7,64,8],[65,3,66,8],[67,3,69,8],[47,1,47,8],[48,0,49,0],[48,1,48,2],[48,3,48,4],[48,5,48,6],[48,7,48,8],[49,1,50,1],[49,2,50,2],[49,3,50,4],[49,5,50,6],[49,7,50,8],[50,0,56,0],[51,3,51,4],[51,5,51,6],[51,7,51,8],[52,3,53,8],[54,3,56,8],[34,1,34,8],[35,0,36,0],[35,1,35,2],[35,3,35,4],[35,5,35,6],[35,7,35,8],[36,1,37,1],[36,2,37,2],[36,3,37,4],[36,5,37,6],[36,7,37,8],[37,0,43,0],[38,3,38,4],[38,5,38,6],[38,7,38,8],[39,3,40,8],[41,3,43,8],[10,5,11,6],[10,1,11,1],[24,0,30,0],[26,3,27,8],[28,3,30,8],[25,3,25,4],[25,5,25,6],[25,7,25,8],[8,1,8,8],[12,3,12,4],[12,5,12,6],[12,7,12,8],[9,7,9,8],[10,7,11,8],[9,0,10,0],[9,1,9,2],[10,2,11,2],[9,3,9,4],[9,5,9,6],[10,3,11,4],[13,3,14,8],[15,3,17,8],[11,0,17,0],[21,1,21,8],[22,0,23,0],[22,1,22,2],[22,3,22,4],[22,5,22,6],[22,7,22,8],[23,1,24,1],[23,2,24,2],[23,3,24,4],[23,5,24,6],[23,7,24,8]]}
[]
[]
[null,null,"INSTITUTO TECNOLOGICO DE MORELIA "]
[]
[null,null,"Matriz de evaluación de oportunidades "]
[]
[]
[]
["Número de Oportunidad","FACTORES"]
["#1","Disponibilidad de recursos",null,"Normatividad",null,"Visión Institucional",null,"Aportación a los objetivos"]
[null,"Criterios","Puntuación","Puntuación",null,"Puntuación",null,"Puntuación"]
[{"$f":"'MATRIZ '!E15","v":0}]
[null,"Humanos"]
[null,"Financieros",null,"Valor de viabilidad"]
[null,"Técnicos"]
[null,"Materiales",null,{"$f":"IFERROR(C18*D13*F13*H13,\"\")","v":""}]
[null,"Tiempo"]
[null,"TOTAL=",{"$f":"IFERROR(IF(AVERAGE(C13:C17)<=2.4,1,IF(AND(AVERAGE(C13:C17)>=2.5,AVERAGE(C13:C17)<=3.7),3,IF(AVERAGE(C13:C17)>=3.8,5,\"\"))),\"\")","v":""}]
[]
[]
[]
["Número de Oportunidad","FACTORES"]
["#2","Disponibilidad de recursos",null,"Normatividad",null,"Visión Institucional",null,"Aportación a los objetivos"]
[null,"Criterios","Puntuación","Puntuación",null,"Puntuación",null,"Puntuación"]
[{"$f":"'MATRIZ '!E16","v":0}]
[null,"Humanos"]
[null,"Financieros",null,"Valor de viabilidad"]
[null,"Técnicos"]
[null,"Materiales",null,{"$f":"IFERROR(C31*D26*F26*H26,\"\")","v":""}]
[null,"Tiempo"]
[null,"TOTAL=",{"$f":"IFERROR(IF(AVERAGE(C26:C30)<=2.4,1,IF(AND(AVERAGE(C26:C30)>=2.5,AVERAGE(C26:C30)<=3.7),3,IF(AVERAGE(C26:C30)>=3.8,5,\"\"))),\"\")","v":""}]
[]
[]
[]
["Número de Oportunidad","FACTORES"]
["#3","Disponibilidad de recursos",null,"Normatividad",null,"Visión Institucional",null,"Aportación a los objetivos"]
[null,"Criterios","Puntuación","Puntuación",null,"Puntuación",null,"Puntuación"]
[{"$f":"'MATRIZ '!E17","v":0}]
[null,"Humanos"]
[null,"Financieros",null,"Valor de viabilidad"]
[null,"Técnicos"]
[null,"Materiales",null,{"$f":"IFERROR(C44*D39*F39*H39,\"\")","v":""}]
[null,"Tiempo"]
[null,"TOTAL=",{"$f":"IFERROR(IF(AVERAGE(C39:C43)<=2.4,1,IF(AND(AVERAGE(C39:C43)>=2.5,AVERAGE(C39:C43)<=3.7),3,IF(AVERAGE(C39:C43)>=3.8,5,\"\"))),\"\")","v":""}]
[]
[]
[]
["Número de Oportunidad","FACTORES"]
["#4","Disponibilidad de recursos",null,"Normatividad",null,"Visión Institucional",null,"Aportación a los objetivos"]
[null,"Criterios","Puntuación","Puntuación",null,"Puntuación",null,"Puntuación"]
[{"$f":"'MATRIZ '!E18","v":0}]
[null,"Humanos"]
[null,"Financieros",null,"Valor de viabilidad"]
[null,"Técnicos"]
[null,"Materiales",null,{"$f":"IFERROR(C57*D52*F52*H52,\"\")","v":""}]
[null,"Tiempo"]
[null,"TOTAL=",{"$f":"IFERROR(IF(AVERAGE(C52:C56)<=2.4,1,IF(AND(AVERAGE(C52:C56)>=2.5,AVERAGE(C52:C56)<=3.7),3,IF(AVERAGE(C52:C56)>=3.8,5,\"\"))),\"\")","v":""}]
[]
[]
[]
["Número de Oportunidad","FACTORES"]
["#5","Disponibilidad de recursos",null,"Normatividad",null,"Visión Institucional",null,"Aportación a los objetivos"]
[null,"Criterios","Puntuación","Puntuación",null,"Puntuación",null,"Puntuación"]
[{"$f":"'MATRIZ '!E19","v":0}]
[null,"Humanos"]
[null,"Financieros",null,"Valor de viabilidad"]
[null,"Técnicos"]
[null,"Materiales",null,{"$f":"IFERROR(C70*D65*F65*H65,\"\")","v":""}]
[null,"Tiempo"]
[null,"TOTAL=",{"$f":"IFERROR(IF(AVERAGE(C65:C69)<=2.4,1,IF(AND(AVERAGE(C65:C69)>=2.5,AVERAGE(C65:C69)<=3.7),3,IF(AVERAGE(C65:C69)>=3.8,5,\"\"))),\"\")","v":""}]
[]
[]
[]
["Número de Oportunidad","FACTORES"]
["#6","Disponibilidad de recursos",null,"Normatividad",null,"Visión Institucional",null,"Aportación a los objetivos"]
[null,"Criterios","Puntuación","Puntuación",null,"Puntuación",null,"Puntuación"]
[{"$f":"'MATRIZ '!E20","v":0}]
[null,"Humanos"]
[null,"Financieros",null,"Valor de viabilidad"]
[null,"Técnicos"]
[null,"Materiales",null,{"$f":"IFERROR(C83*D78*F78*H78,\"\")","v":""}]
[null,"Tiempo"]
[null,"TOTAL=",{"$f":"IFERROR(IF(AVERAGE(C78:C82)<=2.4,1,IF(AND(AVERAGE(C78:C82)>=2.5,AVERAGE(C78:C82)<=3.7),3,IF(AVERAGE(C78:C82)>=3.8,5,\"\"))),\"\")","v":""}]
[]
[]
[]
["Número de Oportunidad","FACTORES"]
["#7","Disponibilidad de recursos",null,"Normatividad",null,"Visión Institucional",null,"Aportación a los objetivos"]
[null,"Criterios","Puntuación","Puntuación",null,"Puntuación",null,"Puntuación"]
[{"$f":"'MATRIZ '!E21","v":0}]
[null,"Humanos"]
[null,"Financieros",null,"Valor de viabilidad"]
[null,"Técnicos"]
[null,"Materiales",null,{"$f":"IFERROR(C96*D91*F91*H91,\"\")","v":""}]
[null,"Tiempo"]
[null,"TOTAL=",{"$f":"IFERROR(IF(AVERAGE(C91:C95)<=2.4,1,IF(AND(AVERAGE(C91:C95)>=2.5,AVERAGE(C91:C95)<=3.7),3,IF(AVERAGE(C91:C95)>=3.8,5,\"\"))),\"\")","v":""}]
[]
[]
[]
["Número de Oportunidad","FACTORES"]
["#8","Disponibilidad de recursos",null,"Normatividad",null,"Visión Institucional",null,"Aportación a los objetivos"]
[null,"Criterios","Puntuación","Puntuación",null,"Puntuación",null,"Puntuación"]
[{"$f":"'MATRIZ '!E22","v":0}]
[null,"Humanos"]
[null,"Financieros",null,"Valor de viabilidad"]
[null,"Técnicos"]
[null,"Materiales",null,{"$f":"IFERROR(C109*D104*F104*H104,\"\")","v":""}]
[null,"Tiempo"]
[null,"TOTAL=",{"$f":"IFERROR(IF(AVERAGE(C104:C108)<=2.4,1,IF(AND(AVERAGE(C104:C108)>=2.5,AVERAGE(C104:C108)<=3.7),3,IF(AVERAGE(C104:C108)>=3.8,5,\"\"))),\"\")","v":""}]
[]
[]
[]
["Número de Oportunidad","FACTORES"]
["#9","Disponibilidad de recursos",null,"Normatividad",null,"Visión Institucional",null,"Aportación a los objetivos"]
[null,"Criterios","Puntuación","Puntuación",null,"Puntuación",null,"Puntuación"]
[{"$f":"'MATRIZ '!E23","v":0}]
[null,"Humanos"]
[null,"Financieros",null,"Valor de viabilidad"]
[null,"Técnicos"]
[null,"Materiales",null,{"$f":"IFERROR(C122*D117*F117*H117,\"\")","v":""}]
[null,"Tiempo"]
[null,"TOTAL=",{"$f":"IFERROR(IF(AVERAGE(C117:C121)<=2.4,1,IF(AND(AVERAGE(C117:C121)>=2.5,AVERAGE(C117:C121)<=3.7),3,IF(AVERAGE(C117:C121)>=3.8,5,\"\"))),\"\")","v":""}]
[]
[]
[]
["Número de Oportunidad","FACTORES"]
["#10","Disponibilidad de recursos",null,"Normatividad",null,"Visión Institucional",null,"Aportación a los objetivos"]
[null,"Criterios","Puntuación","Puntuación",null,"Puntuación",null,"Puntuación"]
[{"$f":"'MATRIZ '!E24","v":0}]
[null,"Humanos"]
[null,"Financieros",null,"Valor de viabilidad"]
[null,"Técnicos"]
[null,"Materiales",null,{"$f":"IFERROR(C135*D130*F130*H130,\"\")","v":""}]
[null,"Tiempo"]
[null,"TOTAL=",{"$f":"IFERROR(IF(AVERAGE(C130:C134)<=2.4,1,IF(AND(AVERAGE(C130:C134)>=2.5,AVERAGE(C130:C134)<=3.7),3,IF(AVERAGE(C130:C134)>=3.8,5,\"\"))),\"\")","v":""}]
[]
[]
[]
["Número de Oportunidad","FACTORES"]
["#11","Disponibilidad de recursos",null,"Normatividad",null,"Visión Institucional",null,"Aportación a los objetivos"]
[null,"Criterios","Puntuación","Puntuación",null,"Puntuación",null,"Puntuación"]
[{"$f":"'MATRIZ '!E25","v":0}]
[null,"Humanos"]
[null,"Financieros",null,"Valor de viabilidad"]
[null,"Técnicos"]
[null,"Materiales",null,{"$f":"IFERROR(C148*D143*F143*H143,\"\")","v":""}]
[null,"Tiempo"]
[null,"TOTAL=",{"$f":"IFERROR(IF(AVERAGE(C143:C147)<=2.4,1,IF(AND(AVERAGE(C143:C147)>=2.5,AVERAGE(C143:C147)<=3.7),3,IF(AVERAGE(C143:C147)>=3.8,5,\"\"))),\"\")","v":""}]
[]
[]
[]
["Número de Oportunidad","FACTORES"]
["#12","Disponibilidad de recursos",null,"Normatividad",null,"Visión Institucional",null,"Aportación a los objetivos"]
[null,"Criterios","Puntuación","Puntuación",null,"Puntuación",null,"Puntuación"]
[{"$f":"'MATRIZ '!E26","v":0}]
[null,"Humanos"]
[null,"Financieros",null,"Valor de viabilidad"]
[null,"Técnicos"]
[null,"Materiales",null,{"$f":"IFERROR(C161*D156*F156*H156,\"\")","v":""}]
[null,"Tiempo"]
[null,"TOTAL=",{"$f":"IFERROR(IF(AVERAGE(C156:C160)<=2.4,1,IF(AND(AVERAGE(C156:C160)>=2.5,AVERAGE(C156:C160)<=3.7),3,IF(AVERAGE(C156:C160)>=3.8,5,\"\"))),\"\")","v":""}]
[]
[]
[]
["Número de Oportunidad","FACTORES"]
["#13","Disponibilidad de recursos",null,"Normatividad",null,"Visión Institucional",null,"Aportación a los objetivos"]
[null,"Criterios","Puntuación","Puntuación",null,"Puntuación",null,"Puntuación"]
[{"$f":"'MATRIZ '!E27","v":0}]
[null,"Humanos"]
[null,"Financieros",null,"Valor de viabilidad"]
[null,"Técnicos"]
[null,"Materiales",null,{"$f":"IFERROR(C174*D169*F169*H169,\"\")","v":""}]
[null,"Tiempo"]
[null,"TOTAL=",{"$f":"IFERROR(IF(AVERAGE(C169:C173)<=2.4,1,IF(AND(AVERAGE(C169:C173)>=2.5,AVERAGE(C169:C173)<=3.7),3,IF(AVERAGE(C169:C173)>=3.8,5,\"\"))),\"\")","v":""}]